{"text_format":"3","workbook":"xlsx","n_sheets":6,"sheets":["Infiltration (hård yta känd)","Infiltration (total yta känd)","Infiltration (del av botten)","Filter","Pump","Reglerad avtappning"],"not_rendered":{"images":4},"read":"whole","date_system":"1900"}

{"sheet":"Infiltration (hård yta känd)","index":0,"n_rows":19,"n_cols":22,"rows_kept":19,"merged":[[1,1,1,4],[1,7,1,22],[2,1,2,3],[2,7,2,22],[4,4,4,5],[18,17,18,22]]}
[]
[null,"Infiltrationsytan ska dimensioneras",{"$nulls":3},"för att med god säkerhet omhänderta",null,"Detta är en implementation av den beräkningsmetodik som beskrivs i rapporten \"Hydrologisk dimensionering av buffertmagasin för dagvatten\":"]
[null,"95 procent",null,null,"av årsnederbörden","i dagens klimat.",null,"http://vav.griffel.net/filer/C_Hydrologisk-dimensionering-buffertmagasin-dagvatten.pdf"]
[]
[null,"Ce","=",{"$f":"IF(F2=\"för att med god precison omhänderta\",IF(B3=\"98 procent\",6,IF(B3=\"97 procent\",5.2,IF(B3=\"95 procent\",4.2,IF(B3=\"90 procent\",3.05,IF(B3=\"80 procent\",2.05,IF(B3=\"60 procent\",1.15,\"?\")))))),IF(F2=\"för att med god säkerhet omhänderta\",IF(B3=\"98 procent\",7,IF(B3=\"97 procent\",5.9,IF(B3=\"95 procent\",4.8,IF(B3=\"90 procent\",3.4,IF(B3=\"80 procent\",2.25,IF(B3=\"60 procent\",1.3,\"?\")))))),\"?\"))*IF(F3=\"i dagens klimat.\",1,IF(F3=\"i ett framtida, blötare klimat.\",1.3,\"?\"))","v":{"v":4.8,"d":"4.80"}},{"$f":"IF(D5>7,\"OBS: Värdet får ej överstiga 7 om formeln ska gälla.\",\"\")","v":""}]
[]
[]
[{"$nulls":12},"Ar","=",{"$f":"K11+U11","v":{"v":1000.2152069358779,"d":"1,000"}},"m2"]
[]
[]
[{"$nulls":8},"Ah","=",940,"m2",{"$nulls":6},"Am","=",{"$f":"(K11)/(U14/(D5*(SQRT(U14/U17)-U14/(20*U17)-(6-D5)/20))-1)","v":{"v":60.21520693587791,"d":"60"}},"m2"]
[]
[{"$nulls":10},"Hårddgjord yta"]
[{"$nulls":18},"dm","=",100,"mm"]
[{"$nulls":10},{"$f":"IF(U14/U17<1/6,\"OBS: Magasinet töms för fort för att formeln ska gälla.\",IF(U14/U17>12,\"OBS: Magasinet töms för långsamt för att formeln ska gälla.\",\"\"))","v":""}]
[]
[{"$nulls":18},"fc","=",50,"mm/h"]
[]
[{"$nulls":17},"Dränerad infiltrationsyta"]

{"sheet":"Infiltration (total yta känd)","index":1,"n_rows":19,"n_cols":22,"rows_kept":19,"merged":[[1,1,1,4],[1,7,1,22],[2,1,2,3],[2,7,2,22],[4,4,4,5],[18,17,18,22]]}
[]
[null,"Infiltrationsytan ska dimensioneras",{"$nulls":3},"för att med god säkerhet omhänderta",null,"Detta är en implementation av den beräkningsmetodik som beskrivs i rapporten \"Hydrologisk dimensionering av buffertmagasin för dagvatten\":"]
[null,"95 procent",null,null,"av årsnederbörden","i dagens klimat.",null,"http://vav.griffel.net/filer/C_Hydrologisk-dimensionering-buffertmagasin-dagvatten.pdf"]
[]
[null,"Ce","=",{"$f":"IF(F2=\"för att med god precison omhänderta\",IF(B3=\"98 procent\",6,IF(B3=\"97 procent\",5.2,IF(B3=\"95 procent\",4.2,IF(B3=\"90 procent\",3.05,IF(B3=\"80 procent\",2.05,IF(B3=\"60 procent\",1.15,\"?\")))))),IF(F2=\"för att med god säkerhet omhänderta\",IF(B3=\"98 procent\",7,IF(B3=\"97 procent\",5.9,IF(B3=\"95 procent\",4.8,IF(B3=\"90 procent\",3.4,IF(B3=\"80 procent\",2.25,IF(B3=\"60 procent\",1.3,\"?\")))))),\"?\"))*IF(F3=\"i dagens klimat.\",1,IF(F3=\"i ett framtida, blötare klimat.\",1.3,\"?\"))","v":{"v":4.8,"d":"4.80"}},{"$f":"IF(D5>7,\"OBS: Värdet får ej överstiga 7 om formeln ska gälla.\",\"\")","v":""}]
[]
[]
[{"$nulls":12},"Ar","=",{"v":1000,"d":"1,000"},"m2"]
[]
[]
[{"$nulls":8},"Ah","=",{"$f":"O8-U11","v":{"v":939.7977490060914,"d":"940"}},"m2",{"$nulls":6},"Am","=",{"$f":"(D5*O8)/U14*(SQRT(U14/U17)-U14/(20*U17)-(6-D5)/20)","v":{"v":60.202250993908564,"d":"60"}},"m2"]
[]
[{"$nulls":10},"Hårddgjord yta"]
[{"$nulls":18},"dm","=",100,"mm"]
[{"$nulls":10},{"$f":"IF(U14/U17<1/6,\"OBS: Magasinet töms för fort för att formeln ska gälla.\",IF(U14/U17>12,\"OBS: Magasinet töms för långsamt för att formeln ska gälla.\",\"\"))","v":""}]
[]
[{"$nulls":18},"fc","=",50,"mm/h"]
[]
[{"$nulls":17},"Dränerad infiltrationsyta"]

{"sheet":"Infiltration (del av botten)","index":2,"n_rows":23,"n_cols":24,"rows_kept":23,"merged":[[1,1,1,5],[1,8,1,25],[2,1,2,4],[2,8,2,25],[4,5,4,6],[18,19,18,24]]}
[]
[null,"Infiltrationsytan ska dimensioneras",{"$nulls":4},"för att med god säkerhet omhänderta",null,"Detta är en implementation av den beräkningsmetodik som beskrivs i rapporten \"Hydrologisk dimensionering av buffertmagasin för dagvatten\":"]
[null,"95 procent",{"$nulls":3},"av årsnederbörden","i dagens klimat.",null,"http://vav.griffel.net/filer/C_Hydrologisk-dimensionering-buffertmagasin-dagvatten.pdf"]
[]
[null,"Ce","=",{"$f":"IF(G2=\"för att med god precison omhänderta\",IF(B3=\"98 procent\",6,IF(B3=\"97 procent\",5.2,IF(B3=\"95 procent\",4.2,IF(B3=\"90 procent\",3.05,IF(B3=\"80 procent\",2.05,IF(B3=\"60 procent\",1.15,\"?\")))))),IF(G2=\"för att med god säkerhet omhänderta\",IF(B3=\"98 procent\",7,IF(B3=\"97 procent\",5.9,IF(B3=\"95 procent\",4.8,IF(B3=\"90 procent\",3.4,IF(B3=\"80 procent\",2.25,IF(B3=\"60 procent\",1.3,\"?\")))))),\"?\"))*IF(G3=\"i dagens klimat.\",1,IF(G3=\"i ett framtida, blötare klimat.\",1.3,\"?\"))","v":{"v":4.8,"d":"4.80"}},null,{"$f":"IF(D5>7,\"OBS: Värdet får ej överstiga 7 om formeln ska gälla.\",\"\")","v":""}]
[null,"α","=",{"$f":"1000*D8/(D5*P8)+1/20","v":{"v":0.675,"d":"0.68"}}]
[null,"β","=",{"$f":"(6-D5)/20","v":{"v":0.06000000000000001,"d":"0.06"}}]
[null,"ω","=",{"$f":"W17*W21/1000","v":3},{"$nulls":9},"Ar","=",{"v":1000,"d":"1,000"},"m2"]
[null,"Vm","=",{"$f":"(1+SQRT(1-4*D6*D7)-2*D6*D7)*D8/(2*D6^2 )","v":{"v":6.039253989490254,"d":"6.0"}},"m3"]
[]
[{"$nulls":9},"Ah","=",{"$f":"IF(TYPE(D9)=16,\"?\",P8-W11)","v":{"v":939.6074601050975,"d":"940"}},"m2",{"$nulls":7},"Am","=",{"$f":"IF(TYPE(D9)=16,\"?\",D9/(W14/1000))","v":{"v":60.392539894902534,"d":"60"}},"m2"]
[]
[{"$nulls":11},"Hårddgjord yta"]
[{"$nulls":20},"dm","=",100,"mm"]
[{"$nulls":11},{"$f":"IF(TYPE(D9)=16,\"OBS: Magasinet töms för fort för att formeln ska gälla.\",IF(D9/D8>12,\"OBS: Magasinet töms för långsamt för att formeln ska gälla.\",\"\"))","v":""}]
[{"$nulls":11},{"$f":"IF(TYPE(D9)=16,\"Minska infiltrationskapaciteten eller infiltrationsytan!\",IF(D9/D8>12,\"OBS: Öka infiltrationskapaciteten eller infiltrationsytan!\",\"\"))","v":""}]
[{"$nulls":20},"fc","=",50,"mm/h"]
[]
[{"$nulls":19},"Dränerad infiltrationsyta"]
[]
[{"$nulls":20},"Af","=",60,"m2"]
[]
[{"$nulls":22},{"$f":"IF(W21>W11,\"FEL: Filterytan är större än magasinsbotten!\",\"\")","v":""}]

{"sheet":"Filter","index":3,"n_rows":24,"n_cols":25,"rows_kept":24,"merged":[[1,1,1,5],[1,8,1,26],[2,1,2,4],[2,8,2,26],[4,5,4,6],[16,13,16,14],[17,16,17,18],[22,20,22,25]]}
[]
[null,"Infiltrationsytan ska dimensioneras",{"$nulls":4},"för att med god säkerhet omhänderta",null,"Detta är en implementation av den beräkningsmetodik som beskrivs i rapporten \"Hydrologisk dimensionering av buffertmagasin för dagvatten\":"]
[null,"95 procent",{"$nulls":3},"av årsnederbörden","i dagens klimat.",null,"http://vav.griffel.net/filer/C_Hydrologisk-dimensionering-buffertmagasin-dagvatten.pdf"]
[]
[null,"Ce","=",{"$f":"IF(G2=\"för att med god precison omhänderta\",IF(B3=\"98 procent\",6,IF(B3=\"97 procent\",5.2,IF(B3=\"95 procent\",4.2,IF(B3=\"90 procent\",3.05,IF(B3=\"80 procent\",2.05,IF(B3=\"60 procent\",1.15,\"?\")))))),IF(G2=\"för att med god säkerhet omhänderta\",IF(B3=\"98 procent\",7,IF(B3=\"97 procent\",5.9,IF(B3=\"95 procent\",4.8,IF(B3=\"90 procent\",3.4,IF(B3=\"80 procent\",2.25,IF(B3=\"60 procent\",1.3,\"?\")))))),\"?\"))*IF(G3=\"i dagens klimat.\",1,IF(G3=\"i ett framtida, blötare klimat.\",1.3,\"?\"))","v":{"v":4.8,"d":"4.80"}},null,{"$f":"IF(D5>7,\"OBS: Värdet får ej överstiga 7 om formeln ska gälla.\",\"\")","v":""}]
[null,"α","=",{"$f":"1000*D8/(D5*Q8)+1/20","v":{"v":0.3833333333333333,"d":"0.38"}}]
[null,"β","=",{"$f":"(6-D5)/20","v":{"v":0.06000000000000001,"d":"0.06"}}]
[null,"ω","=",{"$f":"X21*X24/1000","v":1.6},{"$nulls":10},"Ar","=",{"v":1000,"d":"1,000"},"m2"]
[]
[]
[]
[]
[{"$nulls":23},"Hårddgjord yta"]
[]
[]
[]
[{"$nulls":10},"Vm","=",{"$f":"(1+SQRT(1-4*D6*D7)-2*D6*D7)*D8/(2*D6^2 )","v":{"v":10.381557994520408,"d":"10.4"}},"m3 buffertmagasin"]
[{"$nulls":16},"Filtrets dräneringsnivå"]
[]
[]
[{"$nulls":21},"fc","=",400,"mm/h"]
[]
[{"$nulls":12},{"$f":"IF(TYPE(M17)=16,\"OBS: Magasinet töms för fort för att formeln ska gälla.\",IF(M17/D8>12,\"OBS: Magasinet töms för långsamt för att formeln ska gälla.\",\"\"))","v":""},{"$nulls":7},"Filterarea"]
[{"$nulls":12},{"$f":"IF(TYPE(M17)=16,\"Minska filterhastigheten eller filterarean!\",IF(M17/D8>12,\"OBS: Öka filterhastigheten eller filterarean!\",\"\"))","v":""},{"$nulls":8},"Af","=",4,"m2"]

{"sheet":"Pump","index":4,"n_rows":24,"n_cols":24,"rows_kept":24,"merged":[[1,1,1,5],[1,8,1,23],[2,1,2,4],[2,8,2,23],[4,5,4,6],[16,13,16,14],[17,16,17,18],[22,20,22,23]]}
[]
[null,"Infiltrationsytan ska dimensioneras",{"$nulls":4},"för att med god säkerhet omhänderta",null,"Detta är en implementation av den beräkningsmetodik som beskrivs i rapporten \"Hydrologisk dimensionering av buffertmagasin för dagvatten\":"]
[null,"95 procent",{"$nulls":3},"av årsnederbörden","i dagens klimat.",null,"http://vav.griffel.net/filer/C_Hydrologisk-dimensionering-buffertmagasin-dagvatten.pdf"]
[]
[null,"Ce","=",{"$f":"IF(G2=\"för att med god precison omhänderta\",IF(B3=\"98 procent\",6,IF(B3=\"97 procent\",5.2,IF(B3=\"95 procent\",4.2,IF(B3=\"90 procent\",3.05,IF(B3=\"80 procent\",2.05,IF(B3=\"60 procent\",1.15,\"?\")))))),IF(G2=\"för att med god säkerhet omhänderta\",IF(B3=\"98 procent\",7,IF(B3=\"97 procent\",5.9,IF(B3=\"95 procent\",4.8,IF(B3=\"90 procent\",3.4,IF(B3=\"80 procent\",2.25,IF(B3=\"60 procent\",1.3,\"?\")))))),\"?\"))*IF(G3=\"i dagens klimat.\",1,IF(G3=\"i ett framtida, blötare klimat.\",1.3,\"?\"))","v":{"v":4.8,"d":"4.80"}},null,{"$f":"IF(D5>7,\"OBS: Värdet får ej överstiga 7 om formeln ska gälla.\",\"\")","v":""}]
[null,"α","=",{"$f":"1000*D8/(D5*Q8)+1/20","v":{"v":0.8,"d":"0.80"}}]
[null,"β","=",{"$f":"(6-D5)/20","v":{"v":0.06000000000000001,"d":"0.06"}}]
[null,"ω","=",{"$f":"3.6*W24","v":3.6},{"$nulls":10},"Ar","=",{"v":1000,"d":"1,000"},"m2"]
[]
[]
[]
[]
[{"$nulls":20},"Hårddgjord yta"]
[]
[]
[]
[{"$nulls":10},"Vm","=",{"$f":"(1+SQRT(1-4*D6*D7)-2*D6*D7)*D8/(2*D6^2 )","v":{"v":5.070623068602475,"d":"5.1"}},"m3 buffertmagasin"]
[{"$nulls":16},"Startnivå för pump"]
[]
[]
[{"$nulls":18},"Sump"]
[]
[{"$nulls":12},{"$f":"IF(TYPE(M17)=16,\"OBS: Magasinet töms för fort för att formeln ska gälla.\",IF(M17/D8>12,\"OBS: Magasinet töms för långsamt för att formeln ska gälla.\",\"\"))","v":""},{"$nulls":7},"Pumpkapacitet"]
[{"$nulls":12},{"$f":"IF(TYPE(M17)=16,\"Minska pumpkapaciteten!\",IF(M17/D8>12,\"OBS: Öka pumpkapaciteten!\",\"\"))","v":""},{"$nulls":7},"qm","=",1,"l/s"]

{"sheet":"Reglerad avtappning","index":5,"n_rows":24,"n_cols":24,"rows_kept":24,"merged":[[1,1,1,5],[1,8,1,23],[2,1,2,4],[2,8,2,23],[4,5,4,6],[16,13,16,14],[17,16,17,18],[18,20,18,23]]}
[]
[null,"Infiltrationsytan ska dimensioneras",{"$nulls":4},"för att med god säkerhet omhänderta",null,"Detta är en implementation av den beräkningsmetodik som beskrivs i rapporten \"Hydrologisk dimensionering av buffertmagasin för dagvatten\":"]
[null,"95 procent",{"$nulls":3},"av årsnederbörden","i dagens klimat.",null,"http://vav.griffel.net/filer/C_Hydrologisk-dimensionering-buffertmagasin-dagvatten.pdf"]
[]
[null,"Ce","=",{"$f":"IF(G2=\"för att med god precison omhänderta\",IF(B3=\"98 procent\",6,IF(B3=\"97 procent\",5.2,IF(B3=\"95 procent\",4.2,IF(B3=\"90 procent\",3.05,IF(B3=\"80 procent\",2.05,IF(B3=\"60 procent\",1.15,\"?\")))))),IF(G2=\"för att med god säkerhet omhänderta\",IF(B3=\"98 procent\",7,IF(B3=\"97 procent\",5.9,IF(B3=\"95 procent\",4.8,IF(B3=\"90 procent\",3.4,IF(B3=\"80 procent\",2.25,IF(B3=\"60 procent\",1.3,\"?\")))))),\"?\"))*IF(G3=\"i dagens klimat.\",1,IF(G3=\"i ett framtida, blötare klimat.\",1.3,\"?\"))","v":{"v":4.8,"d":"4.80"}},null,{"$f":"IF(D5>7,\"OBS: Värdet får ej överstiga 7 om formeln ska gälla.\",\"\")","v":""}]
[null,"α","=",{"$f":"1000*D8/(D5*Q8)+1/20","v":{"v":0.8,"d":"0.80"}}]
[null,"β","=",{"$f":"(6-D5)/20","v":{"v":0.06000000000000001,"d":"0.06"}}]
[null,"ω","=",{"$f":"3.6*W20","v":3.6},{"$nulls":10},"Ar","=",{"v":1000,"d":"1,000"},"m2"]
[]
[]
[]
[]
[{"$nulls":20},"Hårddgjord yta"]
[]
[]
[]
[{"$nulls":10},"Vm","=",{"$f":"(1+SQRT(1-4*D6*D7)-2*D6*D7)*D8/(2*D6^2 )","v":{"v":5.070623068602475,"d":"5.1"}},"m3 buffertmagasin"]
[{"$nulls":16},"Avtappningsnivå"]
[{"$nulls":20},"Medelavtappning"]
[{"$nulls":20},"qm","=",1,"l/s"]
[]
[]
[{"$nulls":12},{"$f":"IF(TYPE(M17)=16,\"OBS: Magasinet töms för fort för att formeln ska gälla.\",IF(M17/D8>12,\"OBS: Magasinet töms för långsamt för att formeln ska gälla.\",\"\"))","v":""}]
[{"$nulls":12},{"$f":"IF(TYPE(M17)=16,\"Minska pumpkapaciteten!\",IF(M17/D8>12,\"OBS: Öka pumpkapaciteten!\",\"\"))","v":""}]